{
 "currentVersion": 10.22,
 "serviceDescription": "",
 "mapName": "Layers",
 "description": "",
 "copyrightText": "",
 "supportsDynamicLayers": false,
 "layers": [
  {
   "id": 0,
   "name": "Road Names 25k",
   "parentLayerId": -1,
   "defaultVisibility": true,
   "subLayerIds": [
    1
   ],
   "minScale": 0,
   "maxScale": 0
  },
  {
   "id": 1,
   "name": "GIS.rdname_Default",
   "parentLayerId": 0,
   "defaultVisibility": true,
   "subLayerIds": null,
   "minScale": 0,
   "maxScale": 0
  },
  {
   "id": 2,
   "name": "Details",
   "parentLayerId": -1,
   "defaultVisibility": true,
   "subLayerIds": [
    3,
    8,
    9,
    10,
    11,
    12,
    13,
    14
   ],
   "minScale": 0,
   "maxScale": 0
  },
  {
   "id": 3,
   "name": "Details anno",
   "parentLayerId": 2,
   "defaultVisibility": true,
   "subLayerIds": [
    4,
    5,
    6,
    7
   ],
   "minScale": 0,
   "maxScale": 0
  },
  {
   "id": 4,
   "name": "Boundary",
   "parentLayerId": 3,
   "defaultVisibility": true,
   "subLayerIds": null,
   "minScale": 0,
   "maxScale": 0
  },
  {
   "id": 5,
   "name": "Shore",
   "parentLayerId": 3,
   "defaultVisibility": true,
   "subLayerIds": null,
   "minScale": 0,
   "maxScale": 0
  },
  {
   "id": 6,
   "name": "Lake",
   "parentLayerId": 3,
   "defaultVisibility": true,
   "subLayerIds": null,
   "minScale": 0,
   "maxScale": 0
  },
  {
   "id": 7,
   "name": "Reserve",
   "parentLayerId": 3,
   "defaultVisibility": true,
   "subLayerIds": null,
   "minScale": 0,
   "maxScale": 0
  },
  {
   "id": 8,
   "name": "Airport",
   "parentLayerId": 2,
   "defaultVisibility": true,
   "subLayerIds": null,
   "minScale": 0,
   "maxScale": 0
  },
  {
   "id": 9,
   "name": "Boundary",
   "parentLayerId": 2,
   "defaultVisibility": true,
   "subLayerIds": null,
   "minScale": 0,
   "maxScale": 0
  },
  {
   "id": 10,
   "name": "Lake",
   "parentLayerId": 2,
   "defaultVisibility": false,
   "subLayerIds": null,
   "minScale": 0,
   "maxScale": 0
  },
  {
   "id": 11,
   "name": "Railway",
   "parentLayerId": 2,
   "defaultVisibility": true,
   "subLayerIds": null,
   "minScale": 0,
   "maxScale": 0
  },
  {
   "id": 12,
   "name": "Reserve Boundary",
   "parentLayerId": 2,
   "defaultVisibility": true,
   "subLayerIds": null,
   "minScale": 0,
   "maxScale": 0
  },
  {
   "id": 13,
   "name": "Shore",
   "parentLayerId": 2,
   "defaultVisibility": true,
   "subLayerIds": null,
   "minScale": 0,
   "maxScale": 0
  },
  {
   "id": 14,
   "name": "Hydrology Polygons",
   "parentLayerId": 2,
   "defaultVisibility": true,
   "subLayerIds": null,
   "minScale": 0,
   "maxScale": 0
  },
  {
   "id": 15,
   "name": "Road Centre Lines",
   "parentLayerId": -1,
   "defaultVisibility": true,
   "subLayerIds": null,
   "minScale": 0,
   "maxScale": 0
  }
 ],
 "tables": [],
 "spatialReference": {
  "wkid": 26910,
  "latestWkid": 26910
 },
 "singleFusedMapCache": true,
 "tileInfo": {
  "rows": 256,
  "cols": 256,
  "dpi": 96,
  "format": "PNG",
  "compressionQuality": 0,
  "origin": {
   "x": -5120900,
   "y": 9998100
  },
  "spatialReference": {
   "wkid": 26910,
   "latestWkid": 26910
  },
  "lods": [
   {
    "level": 0,
    "resolution": 1326.0943188553044,
    "scale": 5012000
   },
   {
    "level": 1,
    "resolution": 677.3346880027094,
    "scale": 2560000
   },
   {
    "level": 2,
    "resolution": 338.6673440013547,
    "scale": 1280000
   },
   {
    "level": 3,
    "resolution": 169.33367200067735,
    "scale": 640000
   },
   {
    "level": 4,
    "resolution": 84.66683600033868,
    "scale": 320000
   },
   {
    "level": 5,
    "resolution": 42.33341800016934,
    "scale": 160000
   },
   {
    "level": 6,
    "resolution": 21.16670900008467,
    "scale": 80000
   },
   {
    "level": 7,
    "resolution": 10.583354500042335,
    "scale": 40000
   },
   {
    "level": 8,
    "resolution": 5.291677250021167,
    "scale": 20000
   },
   {
    "level": 9,
    "resolution": 2.6458386250105836,
    "scale": 10000
   },
   {
    "level": 10,
    "resolution": 1.3229193125052918,
    "scale": 5000
   }
  ]
 },
 "initialExtent": {
  "xmin": 538135.0486654679,
  "ymin": 5436729.079619457,
  "xmax": 568773.8599430905,
  "ymax": 5448000.352162003,
  "spatialReference": {
   "wkid": 26910,
   "latestWkid": 26910
  }
 },
 "fullExtent": {
  "xmin": 539155.6381578948,
  "ymin": 5427850.053947369,
  "xmax": 567741.7253289474,
  "ymax": 5446934.457631579,
  "spatialReference": {
   "wkid": 26910,
   "latestWkid": 26910
  }
 },
 "minScale": 5012000,
 "maxScale": 5000,
 "units": "esriMeters",
 "supportedImageFormatTypes": "PNG32,PNG24,PNG,JPG,DIB,TIFF,EMF,PS,PDF,GIF,SVG,SVGZ,BMP",
 "documentInfo": {
  "Title": "",
  "Author": "",
  "Comments": "",
  "Subject": "",
  "Category": "",
  "AntialiasingMode": "None",
  "TextAntialiasingMode": "Force",
  "Keywords": ""
 },
 "capabilities": "Map,Query,Data",
 "supportedQueryFormats": "JSON, AMF",
 "exportTilesAllowed": false,
 "maxRecordCount": 1000,
 "maxImageHeight": 4096,
 "maxImageWidth": 4096,
 "supportedExtensions": ""
}
